BEGIN:VCALENDAR
VERSION:2.0
PRODID:-//eventon.com NONSGML v1.0//EN
CALSCALE:GREGORIAN
METHOD:PUBLISH
BEGIN:VEVENT
UID:69e73fe9c4b0d
DTSTAMP:20260421T091417Z
DTSTART:20200608
DTEND:20200609
LOCATION:
SUMMARY:Stream Monitoring Event for Fall Creek and Virgil Creek Volunteer Group
DESCRIPTION:Volunteers will be monitoring Fall Creek and Virgil Creek today
  as part of CSI’s Synoptic Stream Monitoring Program. These volunteers wi
 ll be collecting field measurements and water samples at 11 locations in th
 e Fall Creek watershed and 8 locations in the Virgil Creek sub-watershed. S
 amples collected by volunteers are analyzed[..]\nhttps://communityscience.o
 rg/events/stream-monitoring-event-for-fall-creek-and-virgil-creek-volunteer
 -group-copy/
URL:https://communityscience.org/events/stream-monitoring-event-for-fall-creek-and-virgil-creek-volunteer-group-copy/
END:VEVENT
END:VCALENDAR